BEGIN:VCALENDAR
VERSION:2.0
PRODID:-//San Antonio Food Bank - ECPv6.15.20//NONSGML v1.0//EN
CALSCALE:GREGORIAN
METHOD:PUBLISH
X-ORIGINAL-URL:https://safoodbank.org
X-WR-CALDESC:Events for San Antonio Food Bank
REFRESH-INTERVAL;VALUE=DURATION:PT1H
X-Robots-Tag:noindex
X-PUBLISHED-TTL:PT1H
BEGIN:VTIMEZONE
TZID:America/Chicago
BEGIN:DAYLIGHT
TZOFFSETFROM:-0600
TZOFFSETTO:-0500
TZNAME:CDT
DTSTART:20250309T080000
END:DAYLIGHT
BEGIN:STANDARD
TZOFFSETFROM:-0500
TZOFFSETTO:-0600
TZNAME:CST
DTSTART:20251102T070000
END:STANDARD
BEGIN:DAYLIGHT
TZOFFSETFROM:-0600
TZOFFSETTO:-0500
TZNAME:CDT
DTSTART:20260308T080000
END:DAYLIGHT
BEGIN:STANDARD
TZOFFSETFROM:-0500
TZOFFSETTO:-0600
TZNAME:CST
DTSTART:20261101T070000
END:STANDARD
BEGIN:DAYLIGHT
TZOFFSETFROM:-0600
TZOFFSETTO:-0500
TZNAME:CDT
DTSTART:20270314T080000
END:DAYLIGHT
BEGIN:STANDARD
TZOFFSETFROM:-0500
TZOFFSETTO:-0600
TZNAME:CST
DTSTART:20271107T070000
END:STANDARD
END:VTIMEZONE
BEGIN:VEVENT
DTSTART;TZID=America/Chicago:20260420T070000
DTEND;TZID=America/Chicago:20260420T160000
DTSTAMP:20260424T073520
CREATED:20260108T145855Z
LAST-MODIFIED:20260109T230146Z
UID:10000225-1776668400-1776700800@safoodbank.org
SUMMARY:Doing Good on the Green
DESCRIPTION:This year\, Doing Good on the Green tees off in a whole new way — as an official Fiesta San Antonio event\, hosted at TPC San Antonio on two stunning 18-hole PGA courses. \nWe’re bringing Fiesta flair to the fairway for an unforgettable day of golfing\, all in support of our fighting hunger in our community. Together\, we’ll raise vital funds for the San Antonio Food Bank and the New Braunfels Food Bank\, where every $1 donated helps provide 7 meals for families and individuals across Southwest Texas.
URL:https://safoodbank.org/event/doing-good-on-the-green/
LOCATION:TPC San Antonio\, 23808 Resort Pkwy\,  San Antonio\, 78261\, United States
CATEGORIES:Signature Event
ATTACH;FMTTYPE=image/png:https://safoodbank.org/wp-content/uploads/2025/01/SIGNATURE-EVENT-DOING-GOOD.png
END:VEVENT
END:VCALENDAR